BEGIN:VCALENDAR
VERSION:2.0
CALSCALE:GREGORIAN
PRODID:-//MyApp//Calendar 1.0//EN
BEGIN:VEVENT
METHOD:PUBLISH
UID:32247@regionalniportaly.cz
DTSTAMP:20260420T104008Z
DTSTART;VALUE=DATE:20230519
DTEND;VALUE=DATE:20230520
SUMMARY:TRANZAN v Berouně
DESCRIPTION:Srdečně&nbsp\;a s&nbsp\;velkou radostí vás zveme na společné setkání a akustický hudební zážitek se skupinou TRANZAN – hudba o životě\, smrti a o tom\, co je mezi tím.Hudební skupina Tranzan společně tvoří od roku 2014. I přes výlety do různých forem a stylů je jejím domovem píseň. Silná vědomá sdělení\, zpěv sdílený s publikem\, divoké taneční rytmy\, meditační klid to jsou prameny\, které se spojují v jedinou řeku lásky a vděčnosti. Písně\, které skrze Tranzan proudí\, jsou čistou oslavou bytí. Nechybí tedy u zrození\, svatby\, smrti\, obřadů věnovaných živlům\, ročním obdobím či oslavy právě této chvíle. Ponořte se do tohoto proudu a nechte se unášet. Vše\, co se na této cestě bude dít\, je v pořádku.Můžete tančit\, zpívat nebo se jen v klidu usadit s šálkem čaje a nechat se nést písněmi\, které jsou čistou oslavou radosti ze života. Koncert bude trvat cca 2 hodiny a bude možné ještě pobýt v příjemné atmosféře podobně naladěných lidí. Děti\, kterým se podobná setkání líbí\, jsou vítány a do 12 let (včetně) mají vstup zdarma.Vzhledem k velikosti sálu je počet míst omezen. Neváhej s nákupem vstupenky.Při registraci a úhradě předem – vstupné 360 Kč.Při úhradě na místě\, v den konání – vstupné 430 Kč.&nbsp\;Facebook událost:Těšíme se na tebe.
LOCATION:Beroun
END:VEVENT
END:VCALENDAR