BEGIN:VCALENDAR
VERSION:2.0
CALSCALE:GREGORIAN
PRODID:-//MyApp//Calendar 1.0//EN
BEGIN:VEVENT
METHOD:PUBLISH
UID:32504@regionalniportaly.cz
DTSTAMP:20260420T091507Z
DTSTART;VALUE=DATE:20230509
DTEND;VALUE=DATE:20230510
SUMMARY:Štěpán Rak & Matěj Rak
DESCRIPTION:
LOCATION:Beroun
END:VEVENT
END:VCALENDAR