BEGIN:VCALENDAR
VERSION:2.0
CALSCALE:GREGORIAN
PRODID:-//MyApp//Calendar 1.0//EN
BEGIN:VEVENT
METHOD:PUBLISH
UID:32559@regionalniportaly.cz
DTSTAMP:20260420T121116Z
DTSTART;VALUE=DATE:20230528
DTEND;VALUE=DATE:20230529
SUMMARY:Dobré jídlo světa street food piknik Okoř
DESCRIPTION:Setkání příznivců street foodové gastronomie na louce pod zříceninou hradu 𝐎𝐤𝐨𝐫̌\, neděle 𝟐𝟖. 𝐤𝐯𝐞̌𝐭𝐧𝐚 𝟐𝟎𝟐𝟑 𝐨𝐝 𝟏𝟎 𝐡𝐨𝐝𝐢𝐧.&nbsp\;Letní piknik pod hradem\, chutě celého věta\, špičková gastronomie\, jiskřivé nápoje\, řemeslná piva\, výběr vín\, lahodné dezerty\, domácí zmrzlina a k tomu doprovodný program vhodný pro celou rodinu včetně loutkové pohádky pro nejmenší.&nbsp\;Doprovodný program10:30 ST. JOHNNY /Rock&amp\;Roll/12:00 SUSHI workshop12:30 ST. JOHNNY&nbsp\;/Rock&amp\;Roll/13:00 žhavá soutěž14:00 Bářino toulavé divadlo15:00 Atarés /latin/
LOCATION:Okoř
END:VEVENT
END:VCALENDAR