BEGIN:VCALENDAR
VERSION:2.0
CALSCALE:GREGORIAN
PRODID:-//MyApp//Calendar 1.0//EN
BEGIN:VEVENT
METHOD:PUBLISH
UID:34199@regionalniportaly.cz
DTSTAMP:20260420T155533Z
DTSTART;VALUE=DATE:20231011
DTEND;VALUE=DATE:20231012
SUMMARY:Robert Křesťan a Druhá tráva
DESCRIPTION:Koncert populární bluegrassové kapely u příležitosti vydání nového CD Díl druhý\, za které získala v&nbsp\;letošním roce Cenu Anděl v&nbsp\;kategorii Folk. &nbsp\;Na koncertě zazní jak starší\, známé písničky\, tak i ty nové z&nbsp\;posledního alba.
LOCATION:Beroun
END:VEVENT
END:VCALENDAR