BEGIN:VCALENDAR
VERSION:2.0
CALSCALE:GREGORIAN
PRODID:-//MyApp//Calendar 1.0//EN
BEGIN:VEVENT
METHOD:PUBLISH
UID:34200@regionalniportaly.cz
DTSTAMP:20260420T121003Z
DTSTART;VALUE=DATE:20231206
DTEND;VALUE=DATE:20231207
SUMMARY:Malina Brothers
DESCRIPTION:
LOCATION:Beroun
END:VEVENT
END:VCALENDAR