BEGIN:VCALENDAR
VERSION:2.0
CALSCALE:GREGORIAN
PRODID:-//MyApp//Calendar 1.0//EN
BEGIN:VEVENT
METHOD:PUBLISH
UID:34586@regionalniportaly.cz
DTSTAMP:20260420T215218Z
DTSTART;VALUE=DATE:20231111
DTEND;VALUE=DATE:20231112
SUMMARY:Odolen fest
DESCRIPTION:A máme tu opět festival - country\, folk\, bluegrassových kapel a speciální překvapení \;).&nbsp\;Program:&nbsp\;1) Proradost&nbsp\; &nbsp\; &nbsp\; &nbsp\;-&nbsp\;country (Odolena Voda)2) Pohodička&nbsp\; &nbsp\; &nbsp\; - tramp-folk (Veltrusy)3) Rumtorádi&nbsp\; &nbsp\; &nbsp\; - (Libčice)4) The Folks&nbsp\; &nbsp\; &nbsp\; &nbsp\;- folk&nbsp\; (Praha)5) Vivat acustica - folk acoustic (Odolena Voda)6) Anwi&nbsp\; &nbsp\; &nbsp\; &nbsp\; &nbsp\; &nbsp\; &nbsp\; &nbsp\;- zpívající harfenistka7) Saša Niklíčková a Koťátko - šansony a tahací harmonika&nbsp\;www: https://odolen-fest.webnode.cz/
LOCATION:Odolena Voda
END:VEVENT
END:VCALENDAR