BEGIN:VCALENDAR
VERSION:2.0
CALSCALE:GREGORIAN
PRODID:-//MyApp//Calendar 1.0//EN
BEGIN:VEVENT
METHOD:PUBLISH
UID:35168@regionalniportaly.cz
DTSTAMP:20260420T123048Z
DTSTART;VALUE=DATE:20231124
DTEND;VALUE=DATE:20231125
SUMMARY:SYNKOPY 61
DESCRIPTION:Synkopy 61 - Legendární brněnská kapela existuje už přes šedesát let\, je starší než Rolling Stones a dosud aktivně vystupuje. V šedesátých a sedmdesátých letech patřila ke špičce naší populární hudby. Skupina odehrála dosud více jak 3000 koncertů doma i v zahraničí a natočila přes třicet vinylových desek a CD s převážně vlastní tvorbou. Proslula výbornými vícehlasými vokály\, za které si vysloužila u kritiků přezdívku „moravští Beach Boys“. Získala také mnohá ocenění na festivalech u nás i v&nbsp\;zahraničí. Jejich vlastní tvorba vyvrcholila Art-rockovými projekty: „Sluneční hodiny“\, „Křídlení“\, „Zrcadla“.Synkopy 61 – současné obsazení Petr Směja – sólo kytara\, zpěv\, vedoucí skupiny\, Jiří Rybář – bicí\, zpěv\, Jan Korbička – klávesové nástroje\, akustická kytara\, zpěv\, Vilém Majtner – baskytara\, akustická kytara\, sólo zpěv
LOCATION:Beroun
END:VEVENT
END:VCALENDAR