BEGIN:VCALENDAR
VERSION:2.0
CALSCALE:GREGORIAN
PRODID:-//MyApp//Calendar 1.0//EN
BEGIN:VEVENT
METHOD:PUBLISH
UID:35402@regionalniportaly.cz
DTSTAMP:20260420T123320Z
DTSTART;VALUE=DATE:20231028
DTEND;VALUE=DATE:20231029
SUMMARY:Retro Dance Párty
DESCRIPTION:Už jsem zase tady!80s - 90s RETRO DANCE PÁRTY je šesti hodinový disco ples těch největších hitů osmdesátých a devadesátých let s přesahem na léta sedmdesátá až po současnost. Zkrátka od Abby až po Dua Lipu.Přijďte klidně v džínech\, ale nejlépe retro! Nejlepší retro kostýmy budou odměněny!Máme nový luxusní BOSE sound\, nová světla a moc se na vás těšíme!Doba je zlá\, tak tancujme\, dokud můžeme!
LOCATION:Velké Přílepy
END:VEVENT
END:VCALENDAR