BEGIN:VCALENDAR
VERSION:2.0
CALSCALE:GREGORIAN
PRODID:-//MyApp//Calendar 1.0//EN
BEGIN:VEVENT
METHOD:PUBLISH
UID:35823@regionalniportaly.cz
DTSTAMP:20260420T123017Z
DTSTART;VALUE=DATE:20231103
DTEND;VALUE=DATE:20231104
SUMMARY:Květy v Točníku
DESCRIPTION:Koncert nové sestavy brněnské alternativní skupiny Květy.Zvuk skupiny Květy je velmi netradiční\, a to jak pro nástroje\, které kvartet využívá\, tak pro spojení několika nepříliš často spolupřítomných prvků: humoru\, chuti hledat nové postupy\, hravosti a nadprůměrných hráčských schopností.
LOCATION:Točník
END:VEVENT
END:VCALENDAR