BEGIN:VCALENDAR
VERSION:2.0
CALSCALE:GREGORIAN
PRODID:-//MyApp//Calendar 1.0//EN
BEGIN:VEVENT
METHOD:PUBLISH
UID:36101@regionalniportaly.cz
DTSTAMP:20260420T120427Z
DTSTART;VALUE=DATE:20231125
DTEND;VALUE=DATE:20231126
SUMMARY:Marie Tilšarová "SAMA" - Hudební recitál
DESCRIPTION:S radostí vás zvu na recitál a výjimečné hudební mindfulness setkání plné klidných písniček\, které vás pohladí po duši a otevřou vám srdce. Součástí podvečera bude i povídání.Přijďte se nadechnout\, nadchnout\, dojmout\, rozechvět\, unést a nebo jen tak být...Marie Tilšarová je autentická písničkářka s mottem: "Co žiju zpívám\, co zpívám žiju." &amp\; "Štěstí nemusí být dřina." Marie je také průvodkyní mindfulness\, moderátorkou inspirativních besed a setkání. Skrze svou tvorbu předává svůj náhled\, jak znovu začít žít radost\, jak si stát sám za sebou a najít svou hodnotu.Klid\, smích\, uvolnění\, radost\, slzy\, hluboké ponoření do sebe... tak popisují prožitek ti\, co už na recitálu byli. Přijď se také ponořit do vln sebe sama skrz slova a písně Marie.
LOCATION:Beroun
END:VEVENT
END:VCALENDAR