BEGIN:VCALENDAR
VERSION:2.0
CALSCALE:GREGORIAN
PRODID:-//MyApp//Calendar 1.0//EN
BEGIN:VEVENT
METHOD:PUBLISH
UID:36603@regionalniportaly.cz
DTSTAMP:20260420T120315Z
DTSTART;VALUE=DATE:20231126
DTEND;VALUE=DATE:20231127
SUMMARY:Dobré ráno blues band
DESCRIPTION:Česko-americké trio Dobré ráno blues band tvoří profesionální hudebníci\, kytarista Vít Kopecký\, bubeník Vladislav Sosna a hráč na foukací harmoniku Brynn Stephens. Na hudební scéně působí od roku 2012 a za dobu své existence mají odehráno přes 1000 koncertů napříč Evropou.
LOCATION:Beroun
END:VEVENT
END:VCALENDAR