BEGIN:VCALENDAR
VERSION:2.0
CALSCALE:GREGORIAN
PRODID:-//MyApp//Calendar 1.0//EN
BEGIN:VEVENT
METHOD:PUBLISH
UID:36629@regionalniportaly.cz
DTSTAMP:20260422T102213Z
DTSTART;VALUE=DATE:20240123
DTEND;VALUE=DATE:20240124
SUMMARY:Radůza s kapelou
DESCRIPTION:Zpěvačka Radůza je charizmatická žena s nezaměnitelným hlasem\, multiinstrumentalistka\, autorka hudby a textů\, která si svými vystoupeními získává srdce diváků více jak 25 let.
LOCATION:Beroun
END:VEVENT
END:VCALENDAR