BEGIN:VCALENDAR
VERSION:2.0
CALSCALE:GREGORIAN
PRODID:-//MyApp//Calendar 1.0//EN
BEGIN:VEVENT
METHOD:PUBLISH
UID:36630@regionalniportaly.cz
DTSTAMP:20260420T103739Z
DTSTART;VALUE=DATE:20240223
DTEND;VALUE=DATE:20240224
SUMMARY:Můžem i s mužem 2
DESCRIPTION:Vtipná autorská féerie 4 žen\, 4 archetypů\, vznikla pro potřeby podívat se pravdě do očí.Co vše se odkryje a kolik slupek oloupe během jedné narozeninové párty.Co ženy dělají\, když si myslí\, že je nikdo nevidí. A po čem všichni touží\, no přece po lásce\, po tom nádherném stavu milovat a být milován.
LOCATION:Beroun
END:VEVENT
END:VCALENDAR