BEGIN:VCALENDAR
VERSION:2.0
CALSCALE:GREGORIAN
PRODID:-//MyApp//Calendar 1.0//EN
BEGIN:VEVENT
METHOD:PUBLISH
UID:36846@regionalniportaly.cz
DTSTAMP:20260420T123027Z
DTSTART;VALUE=DATE:20231124
DTEND;VALUE=DATE:20231125
SUMMARY:Promiňte\, že rodím - Divadelní festival Tichá jelení rodina
DESCRIPTION:Nový díl průběžného festivalu Tichý jelen nadělí divadelní přehlídku v&nbsp\;Roztokách\, tentokrát s&nbsp\;názvem&nbsp\;Tichá jelení rodina.&nbsp\;Loutky\, divadla a&nbsp\;vyprávění pro děti i&nbsp\;dospělé uvidíte na&nbsp\;dvou scénách\, přesto na&nbsp\;jednom místě – v&nbsp\;Ateliéru PlechOn (Jungmannova 093\, Roztoky) a&nbsp\;v&nbsp\;Městské knihovně Roztoky (Jungmannova 966\, Roztoky)\, však jsou spolu na&nbsp\;jednom plácku přes travnatý dvorek.&nbsp\;20.00Bílková\, Huláková\, Malaníková alias MA(tky)naMA(teřské)&nbsp\;Promiňte\, že rodím!Mateřská show se stopami oxytocinu\, laktační psychózy a&nbsp\;nevyspání. Jsou tři\, dohromady mají šest dětí a&nbsp\;všechny je porodily. První v&nbsp\;porodnici a&nbsp\;druhé doma. Co se matky do&nbsp\;toho porodu vůbec pletou? Autobiografický kabaret o&nbsp\;něčem tak intimním jako je porod. O&nbsp\;tom se snad ani divadlo dělat nedá… Pro ty\, co rodily i&nbsp\;pro ty\, co rodit budou. Pro ženy\, které nerodily a&nbsp\;ani rodit nebudou. A&nbsp\;dokonce i&nbsp\;pro muže!Tvůrčí tým: Kateřina Bílková\, Lenka Huláková\, Hana MalaníkováScénografie: Jitka PospíšilováSvětelný design: Vojtěch Kopta&nbsp\;Délka představení: 50 minutPremiéra: 4.&nbsp\;dubna 2019 v&nbsp\;rámci festivalu Venušiny dny ve Venuši ve Švehlovce.&nbsp\;Bílková\, Huláková\, Malaníková alias MA(tky)naMA(teřské) spolu realizovaly klauzurní performance pro DAMU Trenažér života (2017) a&nbsp\;představení&nbsp\;Promiňte\, že rodim (2019). V&nbsp\;současnosti touží po&nbsp\;projektu o&nbsp\;svých otcích\, synech a&nbsp\;životních partnerech s&nbsp\;pracovním názvem Muži mého života.
LOCATION:Roztoky
END:VEVENT
END:VCALENDAR