BEGIN:VCALENDAR
VERSION:2.0
CALSCALE:GREGORIAN
PRODID:-//MyApp//Calendar 1.0//EN
BEGIN:VEVENT
METHOD:PUBLISH
UID:36847@regionalniportaly.cz
DTSTAMP:20260420T104058Z
DTSTART;VALUE=DATE:20231125
DTEND;VALUE=DATE:20231126
SUMMARY:Storytelling CZ - festival Tichá jelení rodina
DESCRIPTION:13. ročník průběžného festivalu Tichý jelen nadělí divadelní přehlídku v&nbsp\;Roztokách\, tentokrát s&nbsp\;názvem&nbsp\;Tichá jelení rodina.&nbsp\;Loutky\, divadla a&nbsp\;vyprávění pro děti i&nbsp\;dospělé uvidíte na&nbsp\;dvou scénách\, přesto na&nbsp\;jednom místě – v&nbsp\;Ateliéru PlechOn (Jungmannova 093\, Roztoky) a&nbsp\;v&nbsp\;Městské knihovně Roztoky (Jungmannova 966\, Roztoky)\, však jsou spolu na&nbsp\;jednom plácku přes travnatý dvorek.&nbsp\;15.30Storytelling CZPříběhy ze všech koutů světaVypravěči na&nbsp\;svých cestách slyší hodně příběhů a&nbsp\;vy uslyšíte ty nejlepší z&nbsp\;nich. Jaké a&nbsp\;o&nbsp\;čem\, to bude záležet i&nbsp\;na&nbsp\;vás. Živé vyprávění\, při&nbsp\;kterém vypravěč používá jen svůj hlas\, gesta a&nbsp\;mimiku\, je poutavé\, interaktivní a&nbsp\;pěstuje v&nbsp\;dětech jejich přirozenou představivost. Vaším průvodcem bude vypravěčka Markéta Holá.Pro děti i&nbsp\;dospělé.&nbsp\;
LOCATION:Roztoky
END:VEVENT
END:VCALENDAR