BEGIN:VCALENDAR
VERSION:2.0
CALSCALE:GREGORIAN
PRODID:-//MyApp//Calendar 1.0//EN
BEGIN:VEVENT
METHOD:PUBLISH
UID:36849@regionalniportaly.cz
DTSTAMP:20260420T103810Z
DTSTART;VALUE=DATE:20231125
DTEND;VALUE=DATE:20231126
SUMMARY:Richard III. - divadelní festival Tichá jelení rodina
DESCRIPTION:13. ročník průběžného festivalu Tichý jelen nadělí divadelní přehlídku v&nbsp\;Roztokách\, tentokrát s&nbsp\;názvem&nbsp\;Tichá jelení rodina.&nbsp\;Loutky\, divadla a&nbsp\;vyprávění pro děti i&nbsp\;dospělé uvidíte na&nbsp\;dvou scénách\, přesto na&nbsp\;jednom místě – v&nbsp\;Ateliéru PlechOn (Jungmannova 093\, Roztoky) a&nbsp\;v&nbsp\;Městské knihovně Roztoky (Jungmannova 966\, Roztoky)\, však jsou spolu na&nbsp\;jednom plácku přes travnatý dvorek.&nbsp\;19.30Divadlo Tichý JelenRichard 3. aneb s jídlem roste hrbKomická variace na zlé téma. Loutkami proti tragédii. Slavný shakespearovský záporák už zase v&nbsp\;akci – vraždí\, slídí\, pátrá\, řádí\, intrikuje. Živá hudba\, živý humor\, mrtvé loutky.Délka představení: 55 minutInscenace pro mládež a&nbsp\;dospělé.Hrají Dorota Krátká\, Magdalena Marková a Zuzana Vítková ve vzpomínce na Jitku Tichou.Pro starší děti (od 10 let) a dospělé.
LOCATION:Roztoky
END:VEVENT
END:VCALENDAR