BEGIN:VCALENDAR
VERSION:2.0
CALSCALE:GREGORIAN
PRODID:-//MyApp//Calendar 1.0//EN
BEGIN:VEVENT
METHOD:PUBLISH
UID:36850@regionalniportaly.cz
DTSTAMP:20260420T103713Z
DTSTART;VALUE=DATE:20231125
DTEND;VALUE=DATE:20231126
SUMMARY:Zum&Zack - divadelní festival Tichá jelení rodina
DESCRIPTION:13. ročník průběžného festivalu Tichý jelen nadělí divadelní přehlídku v&nbsp\;Roztokách\, tentokrát s&nbsp\;názvem&nbsp\;Tichá jelení rodina.&nbsp\;Loutky\, divadla a&nbsp\;vyprávění pro děti i&nbsp\;dospělé uvidíte na&nbsp\;dvou scénách\, přesto na&nbsp\;jednom místě – v&nbsp\;Ateliéru PlechOn (Jungmannova 093\, Roztoky) a&nbsp\;v&nbsp\;Městské knihovně Roztoky (Jungmannova 966\, Roztoky)\, však jsou spolu na&nbsp\;jednom plácku přes travnatý dvorek.&nbsp\;16.10Dafa TheaterZum&amp\;ZackRealita může být tvrdá. Pomůže k úniku fantazie? Loutkové divadlo o dvou kamarádech z jednoho domu.&nbsp\;Autoři&nbsp\;Reka Deak and Jeries Abu Jaber jsou zkušení divadelníci\, kteří aktuálně studují postgraduál na DAMU na Karlově Univerzitě v Praze. Reke Deak pochází z Maďarska a Jeris Abu Jaber z Palestiny.Pro děti i&nbsp\;dospělé.
LOCATION:Roztoky
END:VEVENT
END:VCALENDAR