BEGIN:VCALENDAR
VERSION:2.0
CALSCALE:GREGORIAN
PRODID:-//MyApp//Calendar 1.0//EN
BEGIN:VEVENT
METHOD:PUBLISH
UID:36876@regionalniportaly.cz
DTSTAMP:20260420T120355Z
DTSTART;VALUE=DATE:20231130
DTEND;VALUE=DATE:20231201
SUMMARY:KONCERT: Petr Kadlček a Šunďák - vzpomínky na Klub
DESCRIPTION:Také vám chybí společná setkání v Klubu na Vodolce?Pojďme spolu zavzpomínat\, jaké to bylo\, když ještě Klub fungoval.PETR KADLČEK (autor známého hitu "JÁ NA TO MÁM" a Vláďa Šunda zvaný ŠUNĎÁK vám zahrají jako za starých časů.Těšte se na speciální hosty\, které až do poslední chvíle necháme jako překvapení&nbsp\;.A pozor .... Budete-li hodní\, možná přijde i TOMÁŠ ZMRZLÍK&nbsp\;.-------------------------------- Koncert bude 30.11. (čtvrtek) v Dobrých časech dole na Vodolce.- Máte-li nějakou fotografii nebo veselou příhodu\, kterou jste s námi v Klubu zažili\, tak se s námi o ní přijďte podělit.&nbsp\;- POZOR: Kapacita je omezena\, proto doporučujeme využít předprodeje nebo rezervace.
LOCATION:Odolena Voda
END:VEVENT
END:VCALENDAR