BEGIN:VCALENDAR
VERSION:2.0
CALSCALE:GREGORIAN
PRODID:-//MyApp//Calendar 1.0//EN
BEGIN:VEVENT
METHOD:PUBLISH
UID:36937@regionalniportaly.cz
DTSTAMP:20260420T120805Z
DTSTART;VALUE=DATE:20231130
DTEND;VALUE=DATE:20231201
SUMMARY:Pavlíkov - Jedlíci na Cestách - Jarda Bouzek Tomáš Šapovalov
DESCRIPTION:Už jste viděli travel gastro pořad Jedlíci na cestách cestovatelů Jardy Bouzka a Tomáše Šapovalova? Za vznikem tohoto projektu stálo spojení dvou vášní – cestování a jídla. Jeho cílem je představit typická jídla\, která byste v jednotlivých zemích rozhodně neměli vynechat. V první sezóně natáčení kluci vybrali Maďarsko\, Německo\, Polsko a Holandsko. Jejich společné povídání nás zavede nejen do restaurací a stánků s občerstvením\, ale také do zákulisí natáčení jejich pořadu. Uvidíte ukázky z pořadu ale také nepovedené záběry\, které se do vysílání nedostaly. Která jídla je nadchla a co jim vysloveně nechutnalo? To vše v zábavné talkshow Jedlíci na cestách.Kniha:&nbsp\; &nbsp\;Jedlíci mají za sebou první rok natáčení\, zvládli&nbsp\;navštívit 4 země a přišel čas přinést vám místní dobroty nejen ve videu\, ale i v tradičnější podobě. Ale nebyli by&nbsp\;to oni\, aby&nbsp\;nevymysleli něco originálního. Kniha jedlíci na cestách spojuje cestopis\, praktické rady\, představení a hodnocení jídel a navrch přidává námi upravené recepty na všechna jídla. Když si tohle vše spojíte s datem vydání na začátku října\, bude vám jasné\, že najít lepší dárek pod stromeček bude letos těžké.! Pozor ! navíc po přednášce proběhne i currywurst chilli výzva\, při které budete moci ochutnat pálivé chilli omáčky\, které jste mohli vidět v jednom z dílů z Berlína.
LOCATION:Pavlíkov
END:VEVENT
END:VCALENDAR