BEGIN:VCALENDAR
VERSION:2.0
CALSCALE:GREGORIAN
PRODID:-//MyApp//Calendar 1.0//EN
BEGIN:VEVENT
METHOD:PUBLISH
UID:37146@regionalniportaly.cz
DTSTAMP:20260420T120833Z
DTSTART;VALUE=DATE:20240218
DTEND;VALUE=DATE:20240219
SUMMARY:TLAPKY V BEROUNĚ | Pohádková party pro děti
DESCRIPTION:Oblíbená tlapková párty míří k Vám! Dětská diskotéka plná tance\, bublinek a pohádkových kamarádů! Tento den bude patřit všem dětem❤Čeká Vás taneční program\, hudba z pohádek a celá tlapková parta\, které Vaše děti milují a se kterými se budou moci i vyfotit.&nbsp\;PRO DĚTI:🎶Diskotéka s bublinkami🐶Oblíbené pohádkové postavičky🤳Fotoautogramiáda s maskoty🎈stánek s balónky a malování na obličejPROGRAM: 15:00 Otevření prostoru\, 15:30 Focení s maskoty\, 16:00 Hlavní program\, 17:30 KonecDěti do 2 let (tzv. do 24 měsíců) zdarma bez vstupenky\, každý jiný návštěvník musí mít platnou vstupenku\, cena vstupenek je shodná pro děti i dospělé.Tým HappyKid!
LOCATION:Beroun
END:VEVENT
END:VCALENDAR