BEGIN:VCALENDAR
VERSION:2.0
CALSCALE:GREGORIAN
PRODID:-//MyApp//Calendar 1.0//EN
BEGIN:VEVENT
METHOD:PUBLISH
UID:37255@regionalniportaly.cz
DTSTAMP:20260420T104027Z
DTSTART;VALUE=DATE:20240209
DTEND;VALUE=DATE:20240210
SUMMARY:Epydemye
DESCRIPTION:Jihočeská folková a folkrocková skupina Epydemye si posluchače napříč generacemi získává svou pozitivní a živelnou koncertní energií a písněmi\, které otevírají zajímavá témata.Je považována za jednu z nejosobitějších kapel na současné folkové/písničkářské scéně.
LOCATION:Beroun
END:VEVENT
END:VCALENDAR