BEGIN:VCALENDAR
VERSION:2.0
CALSCALE:GREGORIAN
PRODID:-//MyApp//Calendar 1.0//EN
BEGIN:VEVENT
METHOD:PUBLISH
UID:37474@regionalniportaly.cz
DTSTAMP:20260420T195230Z
DTSTART;VALUE=DATE:20240922
DTEND;VALUE=DATE:20240923
SUMMARY:Koncert Karel Kahovec + Beatles Revival + host
DESCRIPTION:&nbsp\;The Beatles Revival a karel Kahovec opět na Doksích v přírodním divadle!!!Největší hity legendární skupiny BEATLES v nádherném prostředí areálu Přírodního divadlav Dokseh u Kladna s mnoha krytými místy na sezení.Jako host vystoupí Petr Kadlček se svým hitem JÁ NA TO MÁM a doprovodí ho kapela VOSOLIT&nbsp\;Legenda českého bigbítu Karel Kahovec se v novém exkluzivním a originálním koncertním projektu spojil s jednou z nejlepších světových revivalových kapel The Beatles Revival. Ve více jak tříhodinovém koncertu zazní nejdříve&nbsp\;blok největších pecek The Beatles Revival\, na ně naváže&nbsp\;blok hitů Karla Kahovce jako Paní v černém\, Poprava blond holky či Svou lásku jsem rozdal a dojde i na hudební vzpomínku na Petra Nováka\, s nímž Karel Kahovec K působil v kapele G&amp\;B\, takže zazpívá skladby jako Povídej\, Já budu chodit po špičkách\, Hvězdičko blýskavá nebo Náhrobní kámen\, to vše v doprovodu The Beatles Revival v originálních vokálních i nástrojových aranžích. Po přestávce vyplněné autogramiádou s Karla Kahovce bude následovat opět blok písní The Beatles Revival z pozdějšího obdobíHudba nejpopulárnější&nbsp\;kapely&nbsp\;šedesátých let&nbsp\;s&nbsp\;více než 600 miliony prodanými deskami a nekonečným dedikovaným fanouškovským základem míří do Dokes u Kladna&nbsp\;v podání nejlepší revivalové kapely\, která jako jediná dokázala naplnit největší holandskou koncertní haly AHOY arena v Rotterdamu! (&nbsp\;https://www.youtube.com/watch?v=v2pbVKWridU )Jedna z nejúspěšnějších evropských revivalových skupin - vystupuje od roku 1992 a to nejen v Čechách\, ale i Holandsku\, Polsku\, Francii\, Maďarsku\, Slovensku a dokonce i v rodišti legendární čtveřice - severoanglickém Liverpoolu! Těšit se můžete na největší hity "Brouků" téměř v originálním podání.&nbsp\;Koncert Beatles Revivalu z Kladna je opravdovou a dokonalou kopií koncertu legendárních Beatles. Jako důkaz slouží i to\, že skupina byla pozvána do rodiště Beatles - anglického Liverpoolu a tam v legendárním Cavern Clubu odehrála tři vystoupení a absolvovala hodinové interview a živý koncert v pořadu On The Beat na Liverpool BBC Merseyside Radio\, což se dosud žádné neanglické skupině nepodařilo. A nebo to\, že po vystoupení v Adelphi Hotel v Liverpoolu přišel dokonce skupině poděkovat dlouholetý tajemník Beatles Alistair Taylor a prohlásil\, že vystoupení skupiny bylo naprosto dokonalé a chvílemi prý nevěřil\, že na pódiu nehrají praví Beatles\, přestože s nimi strávil na cestách dlouhých pět let. Jedním z důkazů je též obrovský úspěch na Estrel Beatles Festivalu v Berlíně\, kde skupina svým výkonem nadchla prvního manažera Beatles Alana Williamse natolik\, že kapelu přizval ke spolupráci na projektu John Lennon Memorial. V neposlední řadě je též měřítkem úspěchu bezpočet televizních vystoupení\, například v TV Nova\, ČT1\, maďarské MTV\, polské TVP1\, slovenské TV Markíza\, německé MDF1 a dalších televizích po celé Evropě.Originální nástroje a pódiová aparatura- Sólová kytara Rickenbacker 360 Fireglow\, aparatura VOX AC30- Rytmická kytara Rickenbacker 350 Liverpool\, aparatura VOX AC30- Basová kytara Höfner Violin Bass\, aparatura VOX AC100 + VOX T100- Bicí Ludwig - Fab 4 Set\, Black Oyster FinishKostýmy- Kopie černých obleků používaných v letech 1962-64 + Beatle Chelsea Cavern Boots- Kopie šedých obleků s černými klopami z období 1963-65 + Beatle Chelsea Cavern Boots- Kopie Shea Stadium Jackets z let 1965-66 + Beatle Chelsea Cavern Boots- Kopie uniforem z alba Sgt. Pepper's Lonely Hearts Club Band&nbsp\;3 velké párty stany pro diváky!Legenda českého bigbítu Karel Kahovec se v novém exkluzivním a originálním koncertním projektu spojil s jednou z nejlepších světových revivalových kapel The Beatles Revival. Ve více jak tříhodinovém koncertu zazní nejdříve&nbsp\;blok největších pecek The Beatles Revival\, na ně naváže&nbsp\;blok hitů Karla Kahovce jako Paní v černém\, Poprava blond holky či Svou lásku jsem rozdal a dojde i na hudební vzpomínku na Petra Nováka\, s nímž Karel Kahovec K působil v kapele G&amp\;B\, takže zazpívá skladby jako Povídej\, Já budu chodit po špičkách\, Hvězdičko blýskavá nebo Náhrobní kámen\, to vše v doprovodu The Beatles Revival v originálních vokálních i nástrojových aranžích. Po přestávce vyplněné autogramiádou s Karla Kahovce bude následovat opět blok písní The Beatles Revival z pozdějšího období - a po koronavirové karanténě je na repertoáru mnoho nových písní\, které jste ještě od Beatles revivalu neslyšeliKrásný hudební nostalgický&nbsp\;návrat do zlaté éry rokenrolu!&nbsp\;Jaho host super kapela z Telč - VOSOLIT
LOCATION:Doksy
END:VEVENT
END:VCALENDAR