BEGIN:VCALENDAR
VERSION:2.0
CALSCALE:GREGORIAN
PRODID:-//MyApp//Calendar 1.0//EN
BEGIN:VEVENT
METHOD:PUBLISH
UID:37799@regionalniportaly.cz
DTSTAMP:20260420T153606Z
DTSTART;VALUE=DATE:20240321
DTEND;VALUE=DATE:20240322
SUMMARY:Nezmaři
DESCRIPTION:Legenda českého folku skupina NEZMAŘI&nbsp\;
LOCATION:Beroun
END:VEVENT
END:VCALENDAR