BEGIN:VCALENDAR
VERSION:2.0
CALSCALE:GREGORIAN
PRODID:-//MyApp//Calendar 1.0//EN
BEGIN:VEVENT
METHOD:PUBLISH
UID:37800@regionalniportaly.cz
DTSTAMP:20260420T120346Z
DTSTART;VALUE=DATE:20240126
DTEND;VALUE=DATE:20240127
SUMMARY:Gerald Clark (JAR) and His Champions
DESCRIPTION:Jihoafrický zpěvák\, skladatel a kytarista Gerald James Clark (JAR) nahrál pět úspěšných alb\, na nichž spolupracuje s předními jihoafrickými hudebníky. Album s názvem Black Water získalo velký mezinárodní ohlas a videoklip ke stejnojmenné písni byl nominován na evropskou cenu MTV. Se svou hudbou účinkoval na koncertech v šestnácti zemích světa. Clarkovou inspirací je dobrodružství\, vášeň získaná na vlnách při surfování\, nebo během jízdy na koni po jižní Africe. Na koncertě ho doprovází Jakub Hlobil\, hybridní kytara (basa a kytara najednou) a Jan Prchal - bicí nástroje.
LOCATION:Beroun
END:VEVENT
END:VCALENDAR