BEGIN:VCALENDAR
VERSION:2.0
CALSCALE:GREGORIAN
PRODID:-//MyApp//Calendar 1.0//EN
BEGIN:VEVENT
METHOD:PUBLISH
UID:38904@regionalniportaly.cz
DTSTAMP:20260420T105610Z
DTSTART;VALUE=DATE:20240412
DTEND;VALUE=DATE:20240413
SUMMARY:K.T.O.
DESCRIPTION:„Kamarádi táborových ohňů slaví 60 let na scéně! Zlatá éra K.T.O. a vzpomínka na Waldemara Matušku“&nbsp\;
LOCATION:Beroun
END:VEVENT
END:VCALENDAR