BEGIN:VCALENDAR
VERSION:2.0
CALSCALE:GREGORIAN
PRODID:-//MyApp//Calendar 1.0//EN
BEGIN:VEVENT
METHOD:PUBLISH
UID:38970@regionalniportaly.cz
DTSTAMP:20260420T120513Z
DTSTART;VALUE=DATE:20240302
DTEND;VALUE=DATE:20240303
SUMMARY:TRANZAN v Berouně
DESCRIPTION:Zveme vás na koncert kapely Tranzan v Berouně.Písně\, které skrze Tranzana proudí\, jsou čistou oslavou bytí. Silná vědomá sdělení\, zpěv sdílený s publikem\, divoké taneční rytmy\, meditační klid to jsou prameny\, které se spojují v jedinou řeku radosti ze života. Je to hudba\, která lidi provází až na dno vlastní duše a pak za hranice zemské atmosféry. Tranzan je jako šaman\, který pomocí tónů cestuje mezi světy a propojuje je v harmonický celek. Jeho písně se staly nedílnou součástí terapií\, ceremonií a oslav všeho druhu. Natočil tři alba\, to poslední s názvem Motýl se právě rozlétá do světa.web:&nbsp\;www.tranzan.czfb:&nbsp\;https://www.facebook.com/tranzan.cz/Těšíme se na setkání&nbsp\;--- VSTUPENKY ---Vzhledem k velikosti sálu je počet míst omezen.Při registraci a úhradě předem – vstupné 360 Kč.Při úhradě na místě\, v den konání – vstupné 450 Kč.&nbsp\;--- MÍSTO ---Prostor pro tebe bude otevřený od 18.45.Life Design studio se nachází v centru Berouna. Vstup do domu je z ulice Hornohradební (zhruba v polovině bloku budov) - přesná adresa pro mapy.cz je Palackého 96/13. Studio je v 1. patře (bez výtahu).
LOCATION:Beroun
END:VEVENT
END:VCALENDAR