BEGIN:VCALENDAR
VERSION:2.0
CALSCALE:GREGORIAN
PRODID:-//MyApp//Calendar 1.0//EN
BEGIN:VEVENT
METHOD:PUBLISH
UID:39144@regionalniportaly.cz
DTSTAMP:20260420T104050Z
DTSTART;VALUE=DATE:20240312
DTEND;VALUE=DATE:20240313
SUMMARY:Caveman
DESCRIPTION:&nbsp\;Slavná one man show o tom\, co dělá muže mužem a ženu ženou. O rozdílech mezi námi\, o lásce\, partnerství….
LOCATION:Beroun
END:VEVENT
END:VCALENDAR