BEGIN:VCALENDAR
VERSION:2.0
CALSCALE:GREGORIAN
PRODID:-//MyApp//Calendar 1.0//EN
BEGIN:VEVENT
METHOD:PUBLISH
UID:39204@regionalniportaly.cz
DTSTAMP:20260420T120305Z
DTSTART;VALUE=DATE:20240316
DTEND;VALUE=DATE:20240317
SUMMARY:Sousedský bál
DESCRIPTION:V sobotu 16. března se uskuteční 2. ročník Sousedského plesu\, který společně připravují obce Ořech a Zbuzany. Těšit se můžete na výbornou kapelu Roura a doprovodný program. Protože akci pořádají ve spolupráci dvě obce\, bude samozřejmě i dvakrát bohatší tombola.&nbsp\;Zajistěte si vstupenky včas - loňský ples měl velký úspěch.
LOCATION:Ořech
END:VEVENT
END:VCALENDAR