BEGIN:VCALENDAR
VERSION:2.0
CALSCALE:GREGORIAN
PRODID:-//MyApp//Calendar 1.0//EN
BEGIN:VEVENT
METHOD:PUBLISH
UID:39529@regionalniportaly.cz
DTSTAMP:20260420T121520Z
DTSTART;VALUE=DATE:20240305
DTEND;VALUE=DATE:20240306
SUMMARY:Pavlíkov - Holandsko nejen na lodi - Daniël Hagen
DESCRIPTION:Pavlíkov - v úterý 5.března 2024 od 19:00 se v dalším cestovatelském večeru podíváme do Holandska.Chcete se dozvědět\, jak nejlépe poznat Holandsko s vlastní či pronajatou obytnou motorovou lodí\, karavanem nebo autem a získat důležité informace a osobní tipy od znalce? Připravili jsme pro vás nejen mnoho inspirativních fotografií\, map a videí\, ale především tolik potřebné praktické informace.&nbsp\;Čechoholanďan Daniël Hagen je největším znalcem a propagátorem Holandska v České republice. Mnoho let v této zemi prováděl české turisty\, přes 10 let vedl pobočku holandské centrály pro cestovní ruch v ČR a podílel se na natáčení většiny dokumentů o této zemi. Holandsko důvěrně zná a rád se tam mnohokrát do roka vrací. Za posledních 35 let v Holandsku strávil celkem více než 10 let a celou zemi již 27 let proplouvá i na lodi ...Po skončení přednášky bude také prostor pro vaše dotazy.
LOCATION:Pavlíkov
END:VEVENT
END:VCALENDAR