BEGIN:VCALENDAR
VERSION:2.0
CALSCALE:GREGORIAN
PRODID:-//MyApp//Calendar 1.0//EN
BEGIN:VEVENT
METHOD:PUBLISH
UID:39542@regionalniportaly.cz
DTSTAMP:20260420T104235Z
DTSTART;VALUE=DATE:20240427
DTEND;VALUE=DATE:20240428
SUMMARY:Retro Dance Párty
DESCRIPTION:Už jsme zase tady a tentokrát ještě ve větší síle!80s - 90s RETRO DANCE PÁRTY je šestihodinový disco ples těch největších hitů osmdesátých a devadesátých let s přesahem na léta sedmdesátá až po současnost. Zkrátka od Abby\, přes Modern Talking až po Dua Lipu.Přijďte klidně v džínech\, ale nejlépe retro! Nejlepší retro kostýmy budou odměněny!Máme nový luxusní BOSE sound\, nová světla\, lasery a FOTOKOUTEK! Moc se na vás těšíme!Doba je zlá\, tak tancujme\, dokud můžeme!Na místě budou k dispozici vstupenky v ceně 290 Kč bez garance sezení.Fotokoutek:&nbsp\; fotografie 10x15 cm&nbsp\; -&nbsp\; 50 Kč
LOCATION:Velké Přílepy
END:VEVENT
END:VCALENDAR