BEGIN:VCALENDAR
VERSION:2.0
CALSCALE:GREGORIAN
PRODID:-//MyApp//Calendar 1.0//EN
BEGIN:VEVENT
METHOD:PUBLISH
UID:39581@regionalniportaly.cz
DTSTAMP:20260420T192910Z
DTSTART;VALUE=DATE:20240525
DTEND;VALUE=DATE:20240526
SUMMARY:Progress s Babe LN
DESCRIPTION:Ahoj\, 25.5. 2024 se od 17.00 hodin koná akce Progress s Babe LN a dalšimi Djs ve stylu DnB\, v průběhu akce zajištěno občerstvení. Progress se koná v klubu KuK blízko veslařského kanálu a lesa\, mimo obydlenou oblast. Možnost parkování a stanování na místě vzdáleném 50m.&nbsp\;Po domluvě&nbsp\;zajistíme ubytování se snídaní. Vlaková zastávka&nbsp\;Praha - Ústí nad Labem 2km. Dodržování&nbsp\;pořadku nutné.&nbsp\;KuK crew
LOCATION:Račice
END:VEVENT
END:VCALENDAR