BEGIN:VCALENDAR
VERSION:2.0
CALSCALE:GREGORIAN
PRODID:-//MyApp//Calendar 1.0//EN
BEGIN:VEVENT
METHOD:PUBLISH
UID:39906@regionalniportaly.cz
DTSTAMP:20260420T155752Z
DTSTART;VALUE=DATE:20240816
DTEND;VALUE=DATE:20240817
SUMMARY:Festival Vodácké léto
DESCRIPTION:
LOCATION:Zbečno
END:VEVENT
END:VCALENDAR