BEGIN:VCALENDAR
VERSION:2.0
CALSCALE:GREGORIAN
PRODID:-//MyApp//Calendar 1.0//EN
BEGIN:VEVENT
METHOD:PUBLISH
UID:40268@regionalniportaly.cz
DTSTAMP:20260420T192804Z
DTSTART;VALUE=DATE:20240504
DTEND;VALUE=DATE:20240505
SUMMARY:Zahájení sezóny 2024 v klubu KuK.
DESCRIPTION:Ahoj\, zveme Vás na zahájení kulturní sezóny 2024 v klubu KuK. Klub se nachází u veslařského kanálu Račice na okraji lesa.&nbsp\;V&nbsp\;místě je zdarma možnost stanování\, parkování\, zakoupení ubytování se snídaní (nutné řešit minimálně 5 dnů před akcí). Vlaková zastávka&nbsp\;trasa Praha - Ústí nad Labem je od místa vzdálena 2\,2 km. Na akci vystoupí hudební skupiny a Djs\, hlavním hostem bude&nbsp\; Punk Ska skupina Nízká Úroveň\, která byla&nbsp\;částečně propojena s legendárním Petrem Hoškem a značkou PLEXIS - u nás vystoupili v listopadu 2022. Akce se koná od 17.00 hodin\, kdy se otevře areál a bude možné ochutnat plněné selátko z grilu (do vyprodání)\, polévku z hlavy čuníka a další občerstvení. Celý den\, bude ve znamení hudebních stylů pop rock\, ska\, funky\, disko\, house\, tech house. Lístky lze zakoupit&nbsp\;přes&nbsp\;portál smsticket do 4.5. 2024&nbsp\;18.30 h za zvýhodněných 100\,- Kč. V&nbsp\;hotovosti na místě od 17.00 h&nbsp\;za 200\,- Kč. Nenechte si ujít tuto jarní akci v nezapomenutelném prostředí\, plnou hudby\, tance\, slunce\, jídla a pití. KuK crew
LOCATION:Račice
END:VEVENT
END:VCALENDAR