BEGIN:VCALENDAR
VERSION:2.0
CALSCALE:GREGORIAN
PRODID:-//MyApp//Calendar 1.0//EN
BEGIN:VEVENT
METHOD:PUBLISH
UID:40270@regionalniportaly.cz
DTSTAMP:20260420T193020Z
DTSTART;VALUE=DATE:20240524
DTEND;VALUE=DATE:20240525
SUMMARY:Švihadlo v Davli
DESCRIPTION:Kapela Švihadlo je již 40 let vytrvalým zástupcem reggae v Čechách (založena v roce 1983 v Mladé Boleslavi). Za dobu své existence vydala 6 řadových alb (za album Oči otevřený obdrželo Švihadlo cenu Anděl v žánrové kategorii ska &amp\; reggae) a 4 výběrová. Nejnovější je album Vůně trávy\, které vyšlo v březnu 2020. Na něm kapela spolupracuje se spoustou zajímavých hostů a pro inspiraci si odjela na Jamajku.
LOCATION:Davle
END:VEVENT
END:VCALENDAR