BEGIN:VCALENDAR
VERSION:2.0
CALSCALE:GREGORIAN
PRODID:-//MyApp//Calendar 1.0//EN
BEGIN:VEVENT
METHOD:PUBLISH
UID:40711@regionalniportaly.cz
DTSTAMP:20260420T121059Z
DTSTART;VALUE=DATE:20240327
DTEND;VALUE=DATE:20240328
SUMMARY:Pavlíkov - Jakub Vágner - sladkovodní giganti
DESCRIPTION:Jakub VágenerV roce 2022 byl oceněn prezidentem České republiky medailí Za zásluhy I. stupně.Rybaří od pěti let a stalo se jistě osudným\, že jeho první rybou v životě byl desetikilový kapr. Dnes je držitelem několika světových rekordů. Od svých patnácti let publikuje do mnoha odborných rybářských časopisů u nás i v zahraničí\, v sedmnácti letech natočil první rybářský film o lovu sumců a již v osmnácti spolumoderoval rybářský pořad „Jak na to“ v rámci vysílání České televize.Světově známým v této profesi se stal především díky rybářskému seriálu „Fish Warrior” vysílaném televizní stanicí National Geographic a sérií pořadů „Big Fish Man“ na Discovery Channel. O svých dobrodružných expedicích směřujících často do odlehlých\, mnohdy i málo probádaných oblastí naší planety natáčí pro českého diváka dokumentární cykly pod názvem „Rybí legendy“. Dlouhodobě se zabývá autorskou tvorbou\, produkuje a natáčí filmy s rybářskou tematikou\, přednáší pro dětia mládež.&nbsp\;&nbsp\;V Pavlíkově Vás Jakub Vágner&nbsp\;zavede do těch nejpodivnějších a nejnebezpečnějších koutů naší planety\, kde s ním budete pátrat po legendách sladkovodní říše.
LOCATION:Pavlíkov
END:VEVENT
END:VCALENDAR