BEGIN:VCALENDAR
VERSION:2.0
CALSCALE:GREGORIAN
PRODID:-//MyApp//Calendar 1.0//EN
BEGIN:VEVENT
METHOD:PUBLISH
UID:40718@regionalniportaly.cz
DTSTAMP:20260420T120606Z
DTSTART;VALUE=DATE:20240406
DTEND;VALUE=DATE:20240407
SUMMARY:ZVA 12-28 Band & La Fanka
DESCRIPTION:Dvojkoncert – ZVA 12-28 Band – v&nbsp\;podstatě každoročně nejpopulárnější slovenská bluesová kapela\, Noro nejlepší zpěvák\, skupina dekády…. ///&nbsp\; La Fanka – populární regionální funky skupina
LOCATION:Beroun
END:VEVENT
END:VCALENDAR