BEGIN:VCALENDAR
VERSION:2.0
CALSCALE:GREGORIAN
PRODID:-//MyApp//Calendar 1.0//EN
BEGIN:VEVENT
METHOD:PUBLISH
UID:40986@regionalniportaly.cz
DTSTAMP:20260420T212728Z
DTSTART;VALUE=DATE:20240501
DTEND;VALUE=DATE:20240502
SUMMARY:Zahajovací koncert "Dvořákův sen"
DESCRIPTION:ZAHAJOVACÍ KONCERT "DVOŘÁKŮV SEN"​Pořadatel: Dvořákův festivalSpolupořadatel –&nbsp\;Správa Pražského hraduÚčinkující:&nbsp\;RADEK BABORÁK&nbsp\;–&nbsp\;lesní roh\,&nbsp\;ALEŠ BÁRTA&nbsp\;– varhany&nbsp\;Program:&nbsp\;J. S. Bach&nbsp\;– Fuga sopra il Magnificat (BWV 733) pro varhanyJ. S. Bach&nbsp\;– Chorál „Bist du bei mir“ pro lesní roh&nbsp\;a varhanyJ. S. Bach&nbsp\;– Tři preludia pro varhanyCh. Koechlin&nbsp\;- Monodie\, op.213 pro lesní roh (Réveil – Nocturne – Sonnerie del Waldhorn)J. S. Bach&nbsp\;– Fantasie g-moll (BWV 542)G. F. Händel&nbsp\;– Sonáta g-moll pro lesní roh a varhany (Andante larghetto – Allegro – Adagio – Allegro)F. Liszt&nbsp\;– Weimars Volkslied pro varhanyF. Liszt&nbsp\;– Rosario pro lesní roh a varhany (Mysteria&nbsp\;gaudiosa – Mysteria dolorosa – Mysteria gloriosa)Ch. M. Widor&nbsp\;– Toccata F-dur pro varhanyC. Saint-Saëns&nbsp\;– Andante pro lesní roh a varhanyA. Dvořák&nbsp\;– Sny pro lesní roh a varhany&nbsp\;
LOCATION:Lány
END:VEVENT
END:VCALENDAR