BEGIN:VCALENDAR
VERSION:2.0
CALSCALE:GREGORIAN
PRODID:-//MyApp//Calendar 1.0//EN
BEGIN:VEVENT
METHOD:PUBLISH
UID:41085@regionalniportaly.cz
DTSTAMP:20260420T230125Z
DTSTART;VALUE=DATE:20240427
DTEND;VALUE=DATE:20240428
SUMMARY:Historickým vlakem do Temelína
DESCRIPTION:Zvláštní jízda historického rychlíku z Prahy na předávací kolejiště jaderné elektrárny Temelín\, včetně prohlídky informačního centra s interaktivními exponáty. \nZažijte ReakTour – virtuální tour až k reaktoru. Máte jedinečnou šanci prohlédnout si zblízka jaderný reaktor a zkusit si spustit regulační tyče až na jeho samé dno! Mlžná komora\, dětský koutek. Pořízení selfie na památku z reaktorového sálu. Zábava pro celou rodinu!\nProgram:\n\nretro vlak s lokomotivou T478.1 “Bardotka” a přípojnými vozy “Balm”\,\ntrasa údolím Berounky a dále přes Příbram a Písek\,\njízda po trati Číčenice – Temelín bez pravidelné osobní dopravy\,\njízda ze stanice Temelín na předávací kolejiště Křtěnov\,\nnávštěva infocentra jaderné elektrárny Temelín (zdarma)\,\nobčerstvení v bufetovém voze po celou dobu akce (není zahrnuto v ceně).\n\nDalší informace naleznete na stránce výletní vlaky.
LOCATION:Beroun
END:VEVENT
END:VCALENDAR