BEGIN:VCALENDAR
VERSION:2.0
CALSCALE:GREGORIAN
PRODID:-//MyApp//Calendar 1.0//EN
BEGIN:VEVENT
METHOD:PUBLISH
UID:41261@regionalniportaly.cz
DTSTAMP:20260420T193030Z
DTSTART;VALUE=DATE:20240511
DTEND;VALUE=DATE:20240512
SUMMARY:Divadlo "Pohádka O Strašidelném nádraží"
DESCRIPTION:Obec Hradištko a Divadelní soubor LáryFáry působící v divadle Kalich uvádí pohádku O Strašidelném nádraží&nbsp\;Děti se ocitnou na jednom malém nádraží v městečku jménem Planá. Na tomto úplně obyčejném vlakovém nádraží\, které spravuje přednosta stanice Bedřích Růžička\, se dějí naprosto záhadné věci\, začalo zde totiž strašit. A tak se Plané začalo říkat Strašidelná Planá a lidé se začali nádraží vyhýbat.Podaří se přednostovi stanice společně s dětmi strašidlo vyhnat? Nebo bude muset zavolat na pomoc svou sestru Blaženu Růžičkovou? A co je to vlastně strašidlo? To všechno se dozvíte v pohádce plné písniček\, strašení a kouzel. Ale nemusíte se bát\, děti si neužijí jen strašení\, ale i spoustu legraceHrají: Pavlína Jurková\, Jarmila Vlčková a Lukáš JurekPohádka je určena pro děti předškolního věku od 4 let a děti základních škol 1-4.třídyUpozornění: Místa v předních řadách budou určena pouze dětem\, aby všechny děti na přestavení dobře viděly.
LOCATION:Hradištko
END:VEVENT
END:VCALENDAR