BEGIN:VCALENDAR
VERSION:2.0
CALSCALE:GREGORIAN
PRODID:-//MyApp//Calendar 1.0//EN
BEGIN:VEVENT
METHOD:PUBLISH
UID:41329@regionalniportaly.cz
DTSTAMP:20260420T192815Z
DTSTART;VALUE=DATE:20240525
DTEND;VALUE=DATE:20240526
SUMMARY:Koncert Katta
DESCRIPTION:
LOCATION:Jince
END:VEVENT
END:VCALENDAR