BEGIN:VCALENDAR
VERSION:2.0
CALSCALE:GREGORIAN
PRODID:-//MyApp//Calendar 1.0//EN
BEGIN:VEVENT
METHOD:PUBLISH
UID:41804@regionalniportaly.cz
DTSTAMP:20260420T153353Z
DTSTART;VALUE=DATE:20240630
DTEND;VALUE=DATE:20240701
SUMMARY:EPYDEMYE & KORRONTZI  -  dvojkoncert
DESCRIPTION:EPYDEMYE&nbsp\;- Jihočeská folková a folkrocková skupina Epydemye si posluchače napříč generacemi získává svou pozitivní a živelnou koncertní energií a písněmi\, které otevírají zajímavá témata.Je považována za jednu z nejosobitějších kapel na současné folkové/písničkářské scéně. Držitelé ceny Anděl.KORRONTZI&nbsp\;– Špičková světová skupina z&nbsp\;Baskicka. Kromě Evropy koncertovali několikrát např. v USA\, Kanadě\, Argentině… a také třeba v Malajsii\, Rio de Janeiru\, na Reunionu\, Kapverdách\, koncem loňského roku byli na turné v&nbsp\;Indii\, letos například v Estonsku… S novými alby se pravidelně umísťují v top ten světového žebříčku worldmusic.
LOCATION:Točník
END:VEVENT
END:VCALENDAR