BEGIN:VCALENDAR
VERSION:2.0
CALSCALE:GREGORIAN
PRODID:-//MyApp//Calendar 1.0//EN
BEGIN:VEVENT
METHOD:PUBLISH
UID:41937@regionalniportaly.cz
DTSTAMP:20260420T153254Z
DTSTART;VALUE=DATE:20240624
DTEND;VALUE=DATE:20240625
SUMMARY:Raego pro Kristiána
DESCRIPTION:Raego pro Kristiána...V Jílovém&nbsp\;u Prahy ( park za muzeem )\, se můžete těšit mimo Raega i na Majselfa. Pro mladší návstěvníky máme připravený skákací hrad\, airbrush tattoo\, barevné copy...&nbsp\;Výtěžek z akce bude použit na podporu rodiny Kristiána.zdvn.cz/aktualitywww.facebook.com/events/1660646924743691&nbsp\;zde naleznete slevové kódyPořadetel si vyhrazuje právo na změny v programu.&nbsp\;
LOCATION:Jílové u Prahy
END:VEVENT
END:VCALENDAR