BEGIN:VCALENDAR
VERSION:2.0
CALSCALE:GREGORIAN
PRODID:-//MyApp//Calendar 1.0//EN
BEGIN:VEVENT
METHOD:PUBLISH
UID:41944@regionalniportaly.cz
DTSTAMP:20260420T225700Z
DTSTART;VALUE=DATE:20240517
DTEND;VALUE=DATE:20240518
SUMMARY:Trojkoncert: Láska / Šunďák / Petr Kadlček
DESCRIPTION:Trojkoncert / Láska / Šunďák / Petr Kadlček(tři písničkáři a hosté)Trojkoncert -&nbsp\;&nbsp\;Láska / Šunďák / Petr Kadlček-LÁSKA- (vlastním jménem Václav Vaňura – z křestního jména VácLOVE pochází i jeho přezdívka) má na kontě již řadu vlastních klipů i featuringů\, účinkování v televizních a rozhlasových pořadech\, společná turné a vystoupení s Pokáčem\, Pekařem\, Jakubem Děkanem\, Voxelem\, kapelami O5&amp\;Radeček\, Jamaron a dalšími .Spolupracuje s vyhlášenými hudebními producenty\, studii a zajímavými umělci (např. duety s Ivou Frühlingovou\, Xindlem X\, Jakubem Děkanem a mnoha dalšími).-PETR KADLČEK- V r.1984 ho spolu s kapelou Natural katapultovala do profesionálního hudebního dění písnička JÁ NA TO MÁM.Zahrál si např. v O2 Aréně jako host Dalibora Jandy. Můžete ho často vidět na pódiích společně s dalšími hvězdami naší beatové a country scény (např.s Karlem Kahovcem\, ...)-ŠUNĎÁK- (Vlastním Jménem Vláďa Šunda). - Vodolský písničkář\, který umí mluvit pozpátku&nbsp\;.Ačkoli se proslavil tím\, že ho nikdo nezná\, hraje rád a složil více\, než 150 písní.Je držitelem několika festivalových ocenění. Např. v r.2021 se zúčastnil národního finále Porty v Řevnicích. Mohli jste ho také vidět na festivalech: Mezi ploty\, Babí léto\,...Jeho píseň: Mobilní dívka - získala v hitparádě country radia 1. místo.NA svých autorských koncertech si zahrál také společně s Pokáčem\, Marcelou Březinovou\, Bohušem Matušem\, Michalem Horákem\, Karlem Kahovcem\, samozřejmě také s Petrem Kadlčkem i s Láskou.-Doražte\, pokud nás chcete slyšet všechny dohromady&nbsp\;.Zdraví a těší se na vás: Láska &lt\;) / Šunďák () / Petr Kadlček []&nbsp\;
LOCATION:Odolena Voda
END:VEVENT
END:VCALENDAR