BEGIN:VCALENDAR
VERSION:2.0
CALSCALE:GREGORIAN
PRODID:-//MyApp//Calendar 1.0//EN
BEGIN:VEVENT
METHOD:PUBLISH
UID:42046@regionalniportaly.cz
DTSTAMP:20260420T192948Z
DTSTART;VALUE=DATE:20240508
DTEND;VALUE=DATE:20240509
SUMMARY:Čekání na tramvaj v Berouně 2024
DESCRIPTION:BEROUN – Jedinečný zážitek\, který vás přenese do doby minulé! V Berouně se 8. května 2024 uskuteční již 14. ročník tradičního happeningu Čekání na tramvaj\, jehož autorem je Patrik Pařízek. Akce je inspirována sérií futuristických pohlednic z roku 1904\, které zobrazují Beroun s tramvajovou dopravou\, která nikdy nevznikla\, ale díky netradičnímu setkání jednou ročně ožívá.\n \nÚčastníci v historických kostýmech\, jejich mluva a dobové rekvizity navodí nostalgickou atmosféru starých časů. Staňte se součástí živého obrazu a přijďte čekat na zpožděnou tramvaj. „Byla to úžasná atmosféra\, jako bych se na chvíli vrátila do minulosti\,“ svěřila se Jana z Berouna.\n\nAkce je vhodná pro všechny věkové kategorie a zaručeně pobaví celou rodinu. Program nabídne setkání s významnými představiteli města Beroun\, příjezd historické tramvaje na náměstí\, zahájení výstavy futuristických pohlednic fy Lederer a Popper a besedu se sběratelkou pohlednic Ilonou Voráčkovou.\nVstup je zdarma\, tak neváhejte a přijďte si užít den plný zábavy\, nostalgie a historie! Akce se koná ve spolupráci s Muzeem Českého krasu v Berouně\, tramvajačkou Karolínou Hubkovou\, tramvajovým konstruktérem Josefem Hubkou a nejmladším berounským cestujícím\, který u příležitosti příjezdu tramvaje oslaví 1. narozeniny.\n\nNeoficiální program:11:30 Setkání kostýmovaných účastníků ve Fantově kavárně nebo Café Foyer na hlavním nádraží v Praze12:53 Odjezd Rychlíkem Berounka R16 R766\nOficiální program:od 13:45 Setkání cestujících s významnými představiteli města Beroun14:00 Čekání na příjezd tramvaje na berounské náměstí společně s tramvajačkou Karolínou Hubkovou\, návštěva knihkupectví Václava Antonyho14:45 Ukázka kolejového vozu Josefa Hubky\, zkonstruovaného přímo pro město Beroun a slavnostní zahájení výstavy Budoucnost v pohlednicích fy Leder &amp\; Popper15:00 Oslava 1. narozenin nejmladšího berounského cestujícícho15:00 Beseda se sběratelkou pohlednic Ilonou Voráčkovou v Muzeu Českého krasu(změna programu vyhrazena)\n \nRegistrace kostýmovaných účastníků ve facebookové skupině Berounští cestující.Čtěte dále: O historii happeningů Čekání na tramvaj v Berouně\n 
LOCATION:Beroun
END:VEVENT
END:VCALENDAR