BEGIN:VCALENDAR
VERSION:2.0
CALSCALE:GREGORIAN
PRODID:-//MyApp//Calendar 1.0//EN
BEGIN:VEVENT
METHOD:PUBLISH
UID:43113@regionalniportaly.cz
DTSTAMP:20260420T140742Z
DTSTART;VALUE=DATE:20240615
DTEND;VALUE=DATE:20240616
SUMMARY:Jinecké slavnosti v huti Barbora
DESCRIPTION:Vstup do areálu umožněn od 12.00 hodin.\nPROGRAM:\n13.00 - zahájení Jineckých slavností\n13.30 - HOŘOVICKÁ MUZIKA (dechová hudba)\n16.00 - skupina KABÁT REVIVAL PLZEŇ\n19.00 - skupina ČECHOMOR\n21.30 - skupina WALDA GANG\nV přestávkách hraje country skupina BRZDAŘI\n \n 
LOCATION:Jince
END:VEVENT
END:VCALENDAR