BEGIN:VCALENDAR
VERSION:2.0
CALSCALE:GREGORIAN
PRODID:-//MyApp//Calendar 1.0//EN
BEGIN:VEVENT
METHOD:PUBLISH
UID:43551@regionalniportaly.cz
DTSTAMP:20260420T123108Z
DTSTART;VALUE=DATE:20240627
DTEND;VALUE=DATE:20240628
SUMMARY:Vítání léta Na Paloučku
DESCRIPTION:Kdy: 27.06.2024 od 16:00\nKde: Park Na Paloučku\, Pod Homolkou 186\, Beroun\n \nNabízené možnosti vstupného:50–100 KčAktuálně nabízené možnosti vstupného najdete na stránce prodejce.Návštěvníci si mohou přijít užít zábavné odpoledne na čerstvém vzduchu Na Paloučku v Berouně. Bude připravená minidiskotétka\, balónková zvířátka\, Kartonová máma\, opékání buřtíků\, malování na obličej a jízda na ponících.\nPiknikové deky s sebou
LOCATION:Beroun
END:VEVENT
END:VCALENDAR