BEGIN:VCALENDAR
VERSION:2.0
CALSCALE:GREGORIAN
PRODID:-//MyApp//Calendar 1.0//EN
BEGIN:VEVENT
METHOD:PUBLISH
UID:43554@regionalniportaly.cz
DTSTAMP:20260420T140721Z
DTSTART;VALUE=DATE:20240629
DTEND;VALUE=DATE:20240630
SUMMARY:Jitka Molavcová - koncert
DESCRIPTION:Kdy:29.6.2024 / od 19:00 Kde: Geopark Barrandien Beroun\nRecitál z písní\, skečů a básnických replik slavných autorů Voskovce a Wericha a Suchého a Šlitra. Ponořte se do světa inteligentního humoru\, který je plný životní moudrosti a nápaditého zamyšlení nad nejdůležitějšími otázkami života.\nVstupné: 200 Kč\, předprodej na pokladnách muzea nebo zde.
LOCATION:Beroun
END:VEVENT
END:VCALENDAR