BEGIN:VCALENDAR
VERSION:2.0
CALSCALE:GREGORIAN
PRODID:-//MyApp//Calendar 1.0//EN
BEGIN:VEVENT
METHOD:PUBLISH
UID:43613@regionalniportaly.cz
DTSTAMP:20260420T140829Z
DTSTART;VALUE=DATE:20240622
DTEND;VALUE=DATE:20240623
SUMMARY:So Fine - párty na Okoři
DESCRIPTION:PÁTRY NA OKOŘI 22.6.2024 od 18 hodin skupiny So Fine
LOCATION:Okoř
END:VEVENT
END:VCALENDAR