BEGIN:VCALENDAR
VERSION:2.0
CALSCALE:GREGORIAN
PRODID:-//MyApp//Calendar 1.0//EN
BEGIN:VEVENT
METHOD:PUBLISH
UID:43614@regionalniportaly.cz
DTSTAMP:20260420T140712Z
DTSTART;VALUE=DATE:20240713
DTEND;VALUE=DATE:20240714
SUMMARY:ATARES - Kubánská párty na Okoři
DESCRIPTION:KUBÁNSKÁ PÁTRY NA OKOŘI 13.7.2024 od 18 hodin skupiny ATARESCUBA LIBRE ZA 50\,-KČ
LOCATION:Okoř
END:VEVENT
END:VCALENDAR