BEGIN:VCALENDAR
VERSION:2.0
CALSCALE:GREGORIAN
PRODID:-//MyApp//Calendar 1.0//EN
BEGIN:VEVENT
METHOD:PUBLISH
UID:43664@regionalniportaly.cz
DTSTAMP:20260420T155732Z
DTSTART;VALUE=DATE:20240810
DTEND;VALUE=DATE:20240811
SUMMARY:Petra Hapková recitál s klavírním doprovodem
DESCRIPTION:Petra Hapková vystoupí na Okoři 10.8.2024 od 20 hodin.Celým večerem\, který je pouze s klavírním doprovodem\, mluveným slovem velmi civilně provází sama Petra.
LOCATION:Okoř
END:VEVENT
END:VCALENDAR